BEGIN:VCALENDAR
VERSION:2.0
PRODID:-//Clare Golf &amp; Country Club - ECPv6.3.4//NONSGML v1.0//EN
CALSCALE:GREGORIAN
METHOD:PUBLISH
X-ORIGINAL-URL:https://claregolf.ca
X-WR-CALDESC:Events for Clare Golf &amp; Country Club
REFRESH-INTERVAL;VALUE=DURATION:PT1H
X-Robots-Tag:noindex
X-PUBLISHED-TTL:PT1H
BEGIN:VTIMEZONE
TZID:America/Halifax
BEGIN:DAYLIGHT
TZOFFSETFROM:-0400
TZOFFSETTO:-0300
TZNAME:ADT
DTSTART:20240310T060000
END:DAYLIGHT
BEGIN:STANDARD
TZOFFSETFROM:-0300
TZOFFSETTO:-0400
TZNAME:AST
DTSTART:20241103T050000
END:STANDARD
END:VTIMEZONE
BEGIN:VEVENT
DTSTART;TZID=America/Halifax:20240624T080000
DTEND;TZID=America/Halifax:20241006T170000
DTSTAMP:20260422T000110
CREATED:20240606T150816Z
LAST-MODIFIED:20240606T151144Z
UID:1938-1719216000-1728234000@claregolf.ca
SUMMARY:Men's Match Play
DESCRIPTION:matchplay 2024
URL:https://claregolf.ca/event/mens-match-play/
END:VEVENT
BEGIN:VEVENT
DTSTART;TZID=America/Halifax:20240701T080000
DTEND;TZID=America/Halifax:20240704T170000
DTSTAMP:20260422T000110
CREATED:20240227T164521Z
LAST-MODIFIED:20240227T164521Z
UID:1781-1719820800-1720112400@claregolf.ca
SUMMARY:NSGA Junior Boys/Girls
DESCRIPTION:
URL:https://claregolf.ca/event/nsga-junior-boys-girls/
END:VEVENT
BEGIN:VEVENT
DTSTART;TZID=America/Halifax:20240713T100000
DTEND;TZID=America/Halifax:20240714T130000
DTSTAMP:20260422T000110
CREATED:20240227T164625Z
LAST-MODIFIED:20240227T164625Z
UID:1785-1720864800-1720962000@claregolf.ca
SUMMARY:Men’s Medal Play
DESCRIPTION:
URL:https://claregolf.ca/event/mens-medal-play/
END:VEVENT
BEGIN:VEVENT
DTSTART;TZID=America/Halifax:20240717T180000
DTEND;TZID=America/Halifax:20240717T220000
DTSTAMP:20260422T000110
CREATED:20240227T164552Z
LAST-MODIFIED:20240715T185757Z
UID:1783-1721239200-1721253600@claregolf.ca
SUMMARY:Club Social
DESCRIPTION:Summer Social July 17\, 2024 2
URL:https://claregolf.ca/event/club-social-2/
END:VEVENT
BEGIN:VEVENT
DTSTART;TZID=America/Halifax:20240720T090000
DTEND;TZID=America/Halifax:20240720T170000
DTSTAMP:20260422T000110
CREATED:20240227T164650Z
LAST-MODIFIED:20240227T164650Z
UID:1787-1721466000-1721494800@claregolf.ca
SUMMARY:Clare Curling Club Fundraiser
DESCRIPTION:
URL:https://claregolf.ca/event/clare-curling-club-fundraiser/
END:VEVENT
BEGIN:VEVENT
DTSTART;TZID=America/Halifax:20240723T090000
DTEND;TZID=America/Halifax:20240723T140000
DTSTAMP:20260422T000110
CREATED:20240227T164749Z
LAST-MODIFIED:20240715T190315Z
UID:1789-1721725200-1721743200@claregolf.ca
SUMMARY:Ladies Field Day
DESCRIPTION:Ladies Field Day 2024 poster for print
URL:https://claregolf.ca/event/ladies-field-day-3/
END:VEVENT
END:VCALENDAR