BEGIN:VCALENDAR
VERSION:2.0
PRODID:-//Clare Golf &amp; Country Club - ECPv6.3.4//NONSGML v1.0//EN
CALSCALE:GREGORIAN
METHOD:PUBLISH
X-ORIGINAL-URL:https://claregolf.ca
X-WR-CALDESC:Events for Clare Golf &amp; Country Club
REFRESH-INTERVAL;VALUE=DURATION:PT1H
X-Robots-Tag:noindex
X-PUBLISHED-TTL:PT1H
BEGIN:VTIMEZONE
TZID:America/Halifax
BEGIN:DAYLIGHT
TZOFFSETFROM:-0400
TZOFFSETTO:-0300
TZNAME:ADT
DTSTART:20220313T060000
END:DAYLIGHT
BEGIN:STANDARD
TZOFFSETFROM:-0300
TZOFFSETTO:-0400
TZNAME:AST
DTSTART:20221106T050000
END:STANDARD
END:VTIMEZONE
BEGIN:VEVENT
DTSTART;VALUE=DATE:20220808
DTEND;VALUE=DATE:20220809
DTSTAMP:20260423T100931
CREATED:20220516T193507Z
LAST-MODIFIED:20220516T194112Z
UID:1565-1659916800-1660003199@claregolf.ca
SUMMARY:Reciprocal Date- Clare at Eden
DESCRIPTION:
URL:https://claregolf.ca/event/2022-reciprocal-date-clare-at-eden/
END:VEVENT
BEGIN:VEVENT
DTSTART;TZID=America/Halifax:20220808T080000
DTEND;TZID=America/Halifax:20220808T120000
DTSTAMP:20260423T100931
CREATED:20220516T193444Z
LAST-MODIFIED:20220516T193444Z
UID:1563-1659945600-1659960000@claregolf.ca
SUMMARY:2022- Valley Seniors
DESCRIPTION:
URL:https://claregolf.ca/event/2022-valley-seniors/
END:VEVENT
BEGIN:VEVENT
DTSTART;TZID=America/Halifax:20220814T080000
DTEND;TZID=America/Halifax:20220814T130000
DTSTAMP:20260423T100931
CREATED:20220516T193354Z
LAST-MODIFIED:20220805T171722Z
UID:1561-1660464000-1660482000@claregolf.ca
SUMMARY:Husband & Wife/ Mixed Couples
DESCRIPTION:Please note: Tee times are often still available on tournament and event dates. Please phone Pro Shop to reserve.
URL:https://claregolf.ca/event/husband-wife-mixed-couples-2/
END:VEVENT
BEGIN:VEVENT
DTSTART;TZID=America/Halifax:20220818T090000
DTEND;TZID=America/Halifax:20220818T120000
DTSTAMP:20260423T100931
CREATED:20220710T042500Z
LAST-MODIFIED:20220722T161316Z
UID:1611-1660813200-1660824000@claregolf.ca
SUMMARY:Ladies Club Championship and Senior Ladies Championship
DESCRIPTION:
URL:https://claregolf.ca/event/ladies-club-championship-and-senior-ladies-championship/
END:VEVENT
BEGIN:VEVENT
DTSTART;TZID=America/Halifax:20220820T080000
DTEND;TZID=America/Halifax:20220821T170000
DTSTAMP:20260423T100931
CREATED:20220516T193605Z
LAST-MODIFIED:20220516T194050Z
UID:1567-1660982400-1661101200@claregolf.ca
SUMMARY:Club Championship
DESCRIPTION:Please note: Tee times are often still available on tournament and event dates. Please phone Pro Shop to reserve.
URL:https://claregolf.ca/event/2022-club-championship/
END:VEVENT
BEGIN:VEVENT
DTSTART;TZID=America/Halifax:20220828T080000
DTEND;TZID=America/Halifax:20220828T120000
DTSTAMP:20260423T100931
CREATED:20220516T193637Z
LAST-MODIFIED:20220516T194034Z
UID:1569-1661673600-1661688000@claregolf.ca
SUMMARY:Parent & Child
DESCRIPTION:
URL:https://claregolf.ca/event/2022-parent-child/
END:VEVENT
END:VCALENDAR