BEGIN:VCALENDAR
VERSION:2.0
PRODID:-//Clare Golf &amp; Country Club - ECPv6.3.4//NONSGML v1.0//EN
CALSCALE:GREGORIAN
METHOD:PUBLISH
X-ORIGINAL-URL:https://claregolf.ca
X-WR-CALDESC:Events for Clare Golf &amp; Country Club
REFRESH-INTERVAL;VALUE=DURATION:PT1H
X-Robots-Tag:noindex
X-PUBLISHED-TTL:PT1H
BEGIN:VTIMEZONE
TZID:America/Halifax
BEGIN:DAYLIGHT
TZOFFSETFROM:-0400
TZOFFSETTO:-0300
TZNAME:ADT
DTSTART:20220313T060000
END:DAYLIGHT
BEGIN:STANDARD
TZOFFSETFROM:-0300
TZOFFSETTO:-0400
TZNAME:AST
DTSTART:20221106T050000
END:STANDARD
END:VTIMEZONE
BEGIN:VEVENT
DTSTART;VALUE=DATE:20220711
DTEND;VALUE=DATE:20220712
DTSTAMP:20260423T114005
CREATED:20220516T193109Z
LAST-MODIFIED:20220516T193109Z
UID:1551-1657497600-1657583999@claregolf.ca
SUMMARY:2022 Reciprocal Date- Eden at Clare
DESCRIPTION:
URL:https://claregolf.ca/event/2022-reciprocal-date-eden-at-clare/
END:VEVENT
BEGIN:VEVENT
DTSTART;VALUE=DATE:20220723
DTEND;VALUE=DATE:20220724
DTSTAMP:20260423T114005
CREATED:20220516T193132Z
LAST-MODIFIED:20220624T164826Z
UID:1553-1658534400-1658620799@claregolf.ca
SUMMARY:2022- Reciprocal Date – Clare at Paragon
DESCRIPTION:
URL:https://claregolf.ca/event/2022-reciprocal-date-clare-at-paragon/
END:VEVENT
BEGIN:VEVENT
DTSTART;TZID=America/Halifax:20220723T080000
DTEND;TZID=America/Halifax:20220723T170000
DTSTAMP:20260423T114005
CREATED:20220516T193212Z
LAST-MODIFIED:20220516T193212Z
UID:1555-1658563200-1658595600@claregolf.ca
SUMMARY:2022 Clare Curling Club Tournament.
DESCRIPTION:Please note: Tee times are often still available on tournament and event dates. Please phone Pro Shop to reserve.
URL:https://claregolf.ca/event/2022-clare-curling-club-tournament/
END:VEVENT
BEGIN:VEVENT
DTSTART;TZID=America/Halifax:20220726T080000
DTEND;TZID=America/Halifax:20220726T120000
DTSTAMP:20260423T114005
CREATED:20220516T193244Z
LAST-MODIFIED:20220516T193244Z
UID:1557-1658822400-1658836800@claregolf.ca
SUMMARY:Ladies Field Day
DESCRIPTION:
URL:https://claregolf.ca/event/ladies-field-day-2/
END:VEVENT
BEGIN:VEVENT
DTSTART;VALUE=DATE:20220729
DTEND;VALUE=DATE:20220730
DTSTAMP:20260423T114005
CREATED:20220516T193316Z
LAST-MODIFIED:20220516T193316Z
UID:1559-1659052800-1659139199@claregolf.ca
SUMMARY:2022 Belliveau Motors Tournament
DESCRIPTION:
URL:https://claregolf.ca/event/2022-belliveau-motors-tournament/
END:VEVENT
END:VCALENDAR