BEGIN:VCALENDAR
VERSION:2.0
PRODID:-//Clare Golf &amp; Country Club - ECPv6.3.4//NONSGML v1.0//EN
CALSCALE:GREGORIAN
METHOD:PUBLISH
X-WR-CALNAME:Clare Golf &amp; Country Club
X-ORIGINAL-URL:https://claregolf.ca
X-WR-CALDESC:Events for Clare Golf &amp; Country Club
REFRESH-INTERVAL;VALUE=DURATION:PT1H
X-Robots-Tag:noindex
X-PUBLISHED-TTL:PT1H
BEGIN:VTIMEZONE
TZID:America/Halifax
BEGIN:DAYLIGHT
TZOFFSETFROM:-0400
TZOFFSETTO:-0300
TZNAME:ADT
DTSTART:20220313T060000
END:DAYLIGHT
BEGIN:STANDARD
TZOFFSETFROM:-0300
TZOFFSETTO:-0400
TZNAME:AST
DTSTART:20221106T050000
END:STANDARD
END:VTIMEZONE
BEGIN:VEVENT
DTSTART;TZID=America/Halifax:20220604T080000
DTEND;TZID=America/Halifax:20220605T120000
DTSTAMP:20260423T142600
CREATED:20220516T192807Z
LAST-MODIFIED:20220516T192807Z
UID:1543-1654329600-1654430400@claregolf.ca
SUMMARY:2022- Men’s 4-Ball
DESCRIPTION:Please note: Tee times are often still available on tournament and event dates. Please phone Pro Shop to reserve.
URL:https://claregolf.ca/event/2022-mens-4-ball/
END:VEVENT
BEGIN:VEVENT
DTSTART;TZID=America/Halifax:20220611T080000
DTEND;TZID=America/Halifax:20220611T120000
DTSTAMP:20260423T142600
CREATED:20220516T192927Z
LAST-MODIFIED:20220516T192927Z
UID:1545-1654934400-1654948800@claregolf.ca
SUMMARY:2022- Ladies Opener
DESCRIPTION:Please note: Tee times are often still available on tournament and event dates. Please phone Pro Shop to reserve.
URL:https://claregolf.ca/event/2022-ladies-opener/
END:VEVENT
BEGIN:VEVENT
DTSTART;VALUE=DATE:20220612
DTEND;VALUE=DATE:20220613
DTSTAMP:20260423T142600
CREATED:20220516T193008Z
LAST-MODIFIED:20220516T193008Z
UID:1547-1654992000-1655078399@claregolf.ca
SUMMARY:Reciprocal Date- Paragon at Clare
DESCRIPTION:
URL:https://claregolf.ca/event/reciprocal-date-paragon-at-clare/
END:VEVENT
BEGIN:VEVENT
DTSTART;TZID=America/Halifax:20220625T080000
DTEND;TZID=America/Halifax:20220625T170000
DTSTAMP:20260423T142600
CREATED:20220516T193044Z
LAST-MODIFIED:20220516T193044Z
UID:1549-1656144000-1656176400@claregolf.ca
SUMMARY:2022- Acadian 2-Ball
DESCRIPTION:Please note: Tee times are often still available on tournament and event dates. Please phone Pro Shop to reserve.
URL:https://claregolf.ca/event/2022-acadian-2-ball/
END:VEVENT
END:VCALENDAR