BEGIN:VCALENDAR
VERSION:2.0
PRODID:-//Clare Golf &amp; Country Club - ECPv6.3.4//NONSGML v1.0//EN
CALSCALE:GREGORIAN
METHOD:PUBLISH
X-ORIGINAL-URL:https://claregolf.ca
X-WR-CALDESC:Events for Clare Golf &amp; Country Club
REFRESH-INTERVAL;VALUE=DURATION:PT1H
X-Robots-Tag:noindex
X-PUBLISHED-TTL:PT1H
BEGIN:VTIMEZONE
TZID:America/Halifax
BEGIN:DAYLIGHT
TZOFFSETFROM:-0400
TZOFFSETTO:-0300
TZNAME:ADT
DTSTART:20210314T060000
END:DAYLIGHT
BEGIN:STANDARD
TZOFFSETFROM:-0300
TZOFFSETTO:-0400
TZNAME:AST
DTSTART:20211107T050000
END:STANDARD
END:VTIMEZONE
BEGIN:VEVENT
DTSTART;TZID=America/Halifax:20210702T080000
DTEND;TZID=America/Halifax:20210704T170000
DTSTAMP:20260424T123559
CREATED:20210412T133643Z
LAST-MODIFIED:20210412T133643Z
UID:1293-1625212800-1625418000@claregolf.ca
SUMMARY:NSGA Women's Senior / Amateur Championship
DESCRIPTION:
URL:https://claregolf.ca/event/nsga-womens-senior-amateur-championship/
END:VEVENT
BEGIN:VEVENT
DTSTART;TZID=America/Halifax:20210713T090000
DTEND;TZID=America/Halifax:20210713T140000
DTSTAMP:20260424T123559
CREATED:20210419T130626Z
LAST-MODIFIED:20210715T020554Z
UID:1338-1626166800-1626184800@claregolf.ca
SUMMARY:Ladies Field Day
DESCRIPTION:Ladies Field Day 2021 \nWinners \n  \n  \nDivision 1 \nFirst Gross: Vanessa Pulley / Lise LeBlanc \nFirst Net : Edith d’Entremont / Clara d’Entremont \nSecond Gross: Andrea Saulnier / Betty Saltzman \nSecond Net: Stacey Wilson / Shelley Wilson \n  \nDivision 2 \nFirst Gross: Shannon Chattington / Yvette Landry \nFirst Net: Suzanne Aucoin / Alice Cleveland \nSecond Gross: Jeannine Maillet / Aimée Thériault \nSecond Net: Lori Houston / Jess Whitehouse \n  \nContests \nClosest to the line #1 – Deena McNeil \nClosest to the hole #4 – Lise Gaudet \nClosest to the hole #17 –  Lynn Doucet \n\n \n\n 
URL:https://claregolf.ca/event/ladies-field-day/
END:VEVENT
BEGIN:VEVENT
DTSTART;TZID=America/Halifax:20210724T080000
DTEND;TZID=America/Halifax:20210724T170000
DTSTAMP:20260424T123559
CREATED:20210412T134132Z
LAST-MODIFIED:20210412T134132Z
UID:1304-1627113600-1627146000@claregolf.ca
SUMMARY:Community Fundraiser
DESCRIPTION:
URL:https://claregolf.ca/event/community-fundraiser/
END:VEVENT
BEGIN:VEVENT
DTSTART;TZID=America/Halifax:20210725T160000
DTEND;TZID=America/Halifax:20210725T190000
DTSTAMP:20260424T123559
CREATED:20210719T195321Z
LAST-MODIFIED:20210719T195321Z
UID:1447-1627228800-1627239600@claregolf.ca
SUMMARY:Men's Night
DESCRIPTION:
URL:https://claregolf.ca/event/mens-night-13/
END:VEVENT
END:VCALENDAR