BEGIN:VCALENDAR
VERSION:2.0
PRODID:-//Clare Golf &amp; Country Club - ECPv6.3.4//NONSGML v1.0//EN
CALSCALE:GREGORIAN
METHOD:PUBLISH
X-WR-CALNAME:Clare Golf &amp; Country Club
X-ORIGINAL-URL:https://claregolf.ca
X-WR-CALDESC:Events for Clare Golf &amp; Country Club
REFRESH-INTERVAL;VALUE=DURATION:PT1H
X-Robots-Tag:noindex
X-PUBLISHED-TTL:PT1H
BEGIN:VTIMEZONE
TZID:America/Halifax
BEGIN:DAYLIGHT
TZOFFSETFROM:-0400
TZOFFSETTO:-0300
TZNAME:ADT
DTSTART:20200308T060000
END:DAYLIGHT
BEGIN:STANDARD
TZOFFSETFROM:-0300
TZOFFSETTO:-0400
TZNAME:AST
DTSTART:20201101T050000
END:STANDARD
END:VTIMEZONE
BEGIN:VEVENT
DTSTART;TZID=America/Halifax:20200805T060000
DTEND;TZID=America/Halifax:20200807T170000
DTSTAMP:20260425T190851
CREATED:20200403T162317Z
LAST-MODIFIED:20200617T124137Z
UID:1013-1596607200-1596819600@claregolf.ca
SUMMARY:NSGA Men's Senior Championship - Host Club - Clare Golf
DESCRIPTION:Pour plus d’information / For more information \nHome
URL:https://claregolf.ca/event/nsga-mens-senior-championship-host-club-clare-golf/
END:VEVENT
BEGIN:VEVENT
DTSTART;TZID=America/Halifax:20200810T080000
DTEND;TZID=America/Halifax:20200810T123000
DTSTAMP:20260425T190851
CREATED:20200610T154926Z
LAST-MODIFIED:20200709T145413Z
UID:1101-1597046400-1597062600@claregolf.ca
SUMMARY:Valley Seniors - Tee times start at 9 AM - 12 AM
DESCRIPTION:Tee times must be booked by Thursday August 6 2020. They start at 9 am and must book next available. Groups of 4. Call Pro shop for tee times.
URL:https://claregolf.ca/event/valley-seniors-tentative/
END:VEVENT
BEGIN:VEVENT
DTSTART;TZID=America/Halifax:20200822T080000
DTEND;TZID=America/Halifax:20200823T150000
DTSTAMP:20260425T190851
CREATED:20200710T131730Z
LAST-MODIFIED:20200710T131730Z
UID:1130-1598083200-1598194800@claregolf.ca
SUMMARY:Clare Golf Club Championship
DESCRIPTION:Tee times starting at 8 am all from number 1 tee \nNumber 1 tee closed from 7:30 to 12 noon
URL:https://claregolf.ca/event/clare-golf-club-championship/
END:VEVENT
BEGIN:VEVENT
DTSTART;TZID=America/Halifax:20200829T110000
DTEND;TZID=America/Halifax:20200829T140000
DTSTAMP:20260425T190851
CREATED:20200713T193103Z
LAST-MODIFIED:20200823T124412Z
UID:1134-1598698800-1598709600@claregolf.ca
SUMMARY:Clare Golf Mixed Couples Tournament
DESCRIPTION:Tee times begin at 11 AM \nRegister at ProShop Thursday August 27\, 2020 \n18 Hole Pinehurst Format \n$20 per team \n$25 tax included for Non member Green Fee \nPlease note: Non – Member – Not eligible for Overall Championship
URL:https://claregolf.ca/event/clare-golf-mixed-couples-tournament/
END:VEVENT
END:VCALENDAR