BEGIN:VCALENDAR
VERSION:2.0
PRODID:-//Clare Golf &amp; Country Club - ECPv6.3.4//NONSGML v1.0//EN
CALSCALE:GREGORIAN
METHOD:PUBLISH
X-ORIGINAL-URL:https://claregolf.ca
X-WR-CALDESC:Events for Clare Golf &amp; Country Club
REFRESH-INTERVAL;VALUE=DURATION:PT1H
X-Robots-Tag:noindex
X-PUBLISHED-TTL:PT1H
BEGIN:VTIMEZONE
TZID:America/Halifax
BEGIN:DAYLIGHT
TZOFFSETFROM:-0400
TZOFFSETTO:-0300
TZNAME:ADT
DTSTART:20200308T060000
END:DAYLIGHT
BEGIN:STANDARD
TZOFFSETFROM:-0300
TZOFFSETTO:-0400
TZNAME:AST
DTSTART:20201101T050000
END:STANDARD
END:VTIMEZONE
BEGIN:VEVENT
DTSTART;TZID=America/Halifax:20200714T080000
DTEND;TZID=America/Halifax:20200714T170000
DTSTAMP:20260425T203834
CREATED:20200605T191116Z
LAST-MODIFIED:20200605T191116Z
UID:1081-1594713600-1594746000@claregolf.ca
SUMMARY:Ladies Field Day - Annulé/Cancelled
DESCRIPTION:Regrettably\, we have to cancel this year’s Ladies’ Field Day\, which was to be held on July 14th. Thank you to all the ladies who have supported this event over the years. Next year’s Field Day is slated for Tuesday\, July 13th. Save the date!
URL:https://claregolf.ca/event/ladies-field-day-annule-cancelled/
END:VEVENT
BEGIN:VEVENT
DTSTART;TZID=America/Halifax:20200725T113000
DTEND;TZID=America/Halifax:20200725T143000
DTSTAMP:20260425T203834
CREATED:20200710T131326Z
LAST-MODIFIED:20200710T131326Z
UID:1128-1595676600-1595687400@claregolf.ca
SUMMARY:Clare Golf Senior - Junior Tournament
DESCRIPTION:18 Hole or 9 Hole Competitions \nFor the Club Senior – Junior Championships\, must play the 18 holes. \nCompetition Details to be announced
URL:https://claregolf.ca/event/clare-golf-senior-junior-tournament/
END:VEVENT
BEGIN:VEVENT
DTSTART;TZID=America/Halifax:20200731T080000
DTEND;TZID=America/Halifax:20200731T170000
DTSTAMP:20260425T203834
CREATED:20200605T191257Z
LAST-MODIFIED:20200605T191416Z
UID:1083-1596182400-1596214800@claregolf.ca
SUMMARY:Clare Medical Centre / Belliveau Motors Charity Golf - Annulé/Cancelled
DESCRIPTION:
URL:https://claregolf.ca/event/clare-medical-centre-belliveau-motors-charity-golf-annule-cancelled/
END:VEVENT
END:VCALENDAR