BEGIN:VCALENDAR
VERSION:2.0
PRODID:-//Clare Golf &amp; Country Club - ECPv6.3.4//NONSGML v1.0//EN
CALSCALE:GREGORIAN
METHOD:PUBLISH
X-ORIGINAL-URL:https://claregolf.ca
X-WR-CALDESC:Events for Clare Golf &amp; Country Club
REFRESH-INTERVAL;VALUE=DURATION:PT1H
X-Robots-Tag:noindex
X-PUBLISHED-TTL:PT1H
BEGIN:VTIMEZONE
TZID:America/Halifax
BEGIN:DAYLIGHT
TZOFFSETFROM:-0400
TZOFFSETTO:-0300
TZNAME:ADT
DTSTART:20200308T060000
END:DAYLIGHT
BEGIN:STANDARD
TZOFFSETFROM:-0300
TZOFFSETTO:-0400
TZNAME:AST
DTSTART:20201101T050000
END:STANDARD
END:VTIMEZONE
BEGIN:VEVENT
DTSTART;TZID=America/Halifax:20200606T080000
DTEND;TZID=America/Halifax:20200607T150000
DTSTAMP:20260425T215627
CREATED:20200306T210548Z
LAST-MODIFIED:20200525T143516Z
UID:961-1591430400-1591542000@claregolf.ca
SUMMARY:2020 Clare 4-Ball - Cancelled
DESCRIPTION:Tee times both days. \nThe Clare 4 Ball is a two day Members event held annually at our Club\, it brings together the game we love with the fun of bringing a friend and team mate to challenge both the course and field. \nThe event organizers will have soon completed the agenda and we will be posting full event details  and sign up. \n 
URL:https://claregolf.ca/event/spring-shootout/
END:VEVENT
BEGIN:VEVENT
DTSTART;TZID=America/Halifax:20200613T133000
DTEND;TZID=America/Halifax:20200613T190000
DTSTAMP:20260425T215627
CREATED:20191029T213947Z
LAST-MODIFIED:20200331T003223Z
UID:940-1592055000-1592074800@claregolf.ca
SUMMARY:SPCA Fundraiser Tournament - Cancelled
DESCRIPTION:Shotgun start at 1:30 PM \nMeal to follow \nTo register: Contact La Baie SPCA \n4 Person Team Scramble \nCourse will be open till 1:00 PM that day.
URL:https://claregolf.ca/event/spca-fundraiser-tournament/
END:VEVENT
BEGIN:VEVENT
DTSTART;TZID=America/Halifax:20200620T133000
DTEND;TZID=America/Halifax:20200620T190000
DTSTAMP:20260425T215627
CREATED:20200306T220409Z
LAST-MODIFIED:20200403T161138Z
UID:967-1592659800-1592679600@claregolf.ca
SUMMARY:Le Transport de Clare Fundraiser Tournament - Cancelled
DESCRIPTION:The Transport de Clare will have details available shortly. \nShot Gun Start 1:30 PM \n4 Person Team Scramble \nMeal to follow. \nCourse will be open till 1:00 PM that day. \n 
URL:https://claregolf.ca/event/le-transport-de-clare-fundraiser-shot-gun-tournament/
END:VEVENT
BEGIN:VEVENT
DTSTART;TZID=America/Halifax:20200627T070000
DTEND;TZID=America/Halifax:20200627T170000
DTSTAMP:20260425T215627
CREATED:20200602T130005Z
LAST-MODIFIED:20200616T115028Z
UID:1076-1593241200-1593277200@claregolf.ca
SUMMARY:Acadian 2 Ball - 2 Person Scramble Course Closed 7 AM to 5 PM
DESCRIPTION:
URL:https://claregolf.ca/event/acadian-2-ball-tentative/
END:VEVENT
END:VCALENDAR