BEGIN:VCALENDAR
VERSION:2.0
PRODID:-//Clare Golf &amp; Country Club - ECPv6.3.4//NONSGML v1.0//EN
CALSCALE:GREGORIAN
METHOD:PUBLISH
X-WR-CALNAME:Clare Golf &amp; Country Club
X-ORIGINAL-URL:https://claregolf.ca
X-WR-CALDESC:Events for Clare Golf &amp; Country Club
REFRESH-INTERVAL;VALUE=DURATION:PT1H
X-Robots-Tag:noindex
X-PUBLISHED-TTL:PT1H
BEGIN:VTIMEZONE
TZID:America/Halifax
BEGIN:DAYLIGHT
TZOFFSETFROM:-0400
TZOFFSETTO:-0300
TZNAME:ADT
DTSTART:20190310T060000
END:DAYLIGHT
BEGIN:STANDARD
TZOFFSETFROM:-0300
TZOFFSETTO:-0400
TZNAME:AST
DTSTART:20191103T050000
END:STANDARD
END:VTIMEZONE
BEGIN:VEVENT
DTSTART;TZID=America/Halifax:20190307T180000
DTEND;TZID=America/Halifax:20190307T203000
DTSTAMP:20260423T075812
CREATED:20190301T142713Z
LAST-MODIFIED:20190301T142713Z
UID:262-1551981600-1551990600@claregolf.ca
SUMMARY:Chase The Ace Draw #20
DESCRIPTION:  \n \nTickets available during the week at Clare Golf & Country Club’s Pro Shop\, Comeauville Freshmart\, Seashore Restaurant – Blue Rock Lounge\, Stuart’s KwikWay\, Comeau Seafoods Stockroom\, The Source\, Leonard C Comeau’s\, Church Point Social Club\, Vic’s Store\, Weymouth Mercantile\, DJ’s Corner Store\, Meteghan Home Hardware and Tri County Tractor in Yarmouth. \nTickets sold on Thursday evenings from 6:00pm until 8:30pm at the Clare Golf & Country Club Clubhouse prior to the 9pm Draw.
URL:https://claregolf.ca/event/chase-the-ace-draw-20/
END:VEVENT
BEGIN:VEVENT
DTSTART;TZID=America/Halifax:20190228T180000
DTEND;TZID=America/Halifax:20190228T203000
DTSTAMP:20260423T075812
CREATED:20190225T194536Z
LAST-MODIFIED:20190225T194655Z
UID:253-1551376800-1551385800@claregolf.ca
SUMMARY:Chase The Ace Draw 19
DESCRIPTION:Tickets available during the week at Clare Golf & Country Club’s Pro Shop\, Comeauville Freshmart\, Seashore Restaurant – Blue Rock Lounge\, Stuart’s KwikWay\, Comeau Seafoods Stockroom\, The Source\, Leonard C Comeau’s\, Church Point Social Club\, Vic’s Store\, Weymouth Mercantile\, DJ’s Corner Store\, Meteghan Home Hardware and Tri County Tractor in Yarmouth. \nTickets sold on Thursday evenings from 6:00pm until 8:30pm at the Clare Golf & Country Club Clubhouse prior to the 9pm Draw.
URL:https://claregolf.ca/event/chase-the-ace-draw-19/
END:VEVENT
BEGIN:VEVENT
DTSTART;TZID=America/Halifax:20190221T180000
DTEND;TZID=America/Halifax:20190221T210000
DTSTAMP:20260423T075812
CREATED:20190219T171811Z
LAST-MODIFIED:20190220T172701Z
UID:55-1550772000-1550782800@claregolf.ca
SUMMARY:Chase The Ace Draw #18
DESCRIPTION:Tickets available during the week at Clare Golf & Country Club’s Pro Shop\, Comeauville Freshmart\, Seashore Restaurant – Blue Rock Lounge\, Stuart’s KwikWay\, Comeau Seafoods Stockroom\, The Source\, Leonard C Comeau’s\, Church Point Social Club\, Vic’s Store\, Weymouth Mercantile\, DJ’s Corner Store and Meteghan Home Hardware. \nTickets sold on Thursday evenings from 6:00pm until 8:30pm at the Clare Golf & Country Club Clubhouse prior to the 9pm Draw. \n 
URL:https://claregolf.ca/event/chase-the-ace-draw-18/
END:VEVENT
END:VCALENDAR