BEGIN:VCALENDAR
VERSION:2.0
PRODID:-//Clare Golf &amp; Country Club - ECPv6.3.4//NONSGML v1.0//EN
CALSCALE:GREGORIAN
METHOD:PUBLISH
X-WR-CALNAME:Clare Golf &amp; Country Club
X-ORIGINAL-URL:https://claregolf.ca
X-WR-CALDESC:Events for Clare Golf &amp; Country Club
REFRESH-INTERVAL;VALUE=DURATION:PT1H
X-Robots-Tag:noindex
X-PUBLISHED-TTL:PT1H
BEGIN:VTIMEZONE
TZID:America/Halifax
BEGIN:DAYLIGHT
TZOFFSETFROM:-0400
TZOFFSETTO:-0300
TZNAME:ADT
DTSTART:20190310T060000
END:DAYLIGHT
BEGIN:STANDARD
TZOFFSETFROM:-0300
TZOFFSETTO:-0400
TZNAME:AST
DTSTART:20191103T050000
END:STANDARD
END:VTIMEZONE
BEGIN:VEVENT
DTSTART;TZID=America/Halifax:20190717T130000
DTEND;TZID=America/Halifax:20190717T150000
DTSTAMP:20260423T040948
CREATED:20190625T124418Z
LAST-MODIFIED:20190625T124451Z
UID:648-1563368400-1563375600@claregolf.ca
SUMMARY:Junior Clinics - Driving Range & Putting Green
DESCRIPTION:Driving Range & Practice Putting Green will be closed to Juniors Only from 1 PM to 3 PM.  \nBeginner Practice Session will be from 1 PM – 2 PM \nIntermediate and Advanced Practice Session will be from 2 PM to 3 PM  \nJunior Players will be encourage to play a few holes\, tee times permitting. 
URL:https://claregolf.ca/event/junior-clinic-driving-range-putting-green/
END:VEVENT
BEGIN:VEVENT
DTSTART;TZID=America/Halifax:20190716T180000
DTEND;TZID=America/Halifax:20190716T200000
DTSTAMP:20260423T040948
CREATED:20190620T153229Z
LAST-MODIFIED:20190620T153229Z
UID:561-1563300000-1563307200@claregolf.ca
SUMMARY:Ladies Tuesday Night Social
DESCRIPTION:9-hole Scramble \nRegistration 5:30 PM \nTee-off at 6 PM \nMembers $2   Non-members $7
URL:https://claregolf.ca/event/ladies-tuesday-night-social-5/
END:VEVENT
BEGIN:VEVENT
DTSTART;TZID=America/Halifax:20190715T180000
DTEND;TZID=America/Halifax:20190715T210000
DTSTAMP:20260423T040948
CREATED:20190620T151947Z
LAST-MODIFIED:20190620T151947Z
UID:549-1563213600-1563224400@claregolf.ca
SUMMARY:Trivia Night at Clare Golf!
DESCRIPTION:Please join us for our Trivia Night – Prizes to be won! \nMonday July 15th \nRegistration at 6 PM \nTrivia 7 PM – 9 PM \n$2 per participant \n1 to 4 persons per team. \nKitchen will be open with a special Trivia Night Menu! \nSpectators are welcome! Bienvenue à tous!
URL:https://claregolf.ca/event/trivia-night-at-clare-golf/
END:VEVENT
BEGIN:VEVENT
DTSTART;TZID=America/Halifax:20190714T130000
DTEND;TZID=America/Halifax:20190714T180000
DTSTAMP:20260423T040948
CREATED:20190620T184135Z
LAST-MODIFIED:20190712T133523Z
UID:577-1563109200-1563127200@claregolf.ca
SUMMARY:Husband & Wife - Mixed Couples Shotgun Start 1:30 PM
DESCRIPTION:Shotgun start at 1:30 PM \nTeams of 2 \nPinehurst Format
URL:https://claregolf.ca/event/husband-wife-mixed-couples/
END:VEVENT
BEGIN:VEVENT
DTSTART;TZID=America/Halifax:20190713T140000
DTEND;TZID=America/Halifax:20190713T233000
DTSTAMP:20260423T040948
CREATED:20190624T131928Z
LAST-MODIFIED:20190624T132632Z
UID:629-1563026400-1563060600@claregolf.ca
SUMMARY:Kitchen & Dining Hall Closed at 2 PM to Midnight - Private Function
DESCRIPTION:Kitchen and Dining Hall Closed at 2 Pm – Midnight \nPrivate Function \nPro Shop & Course will remain open with regular hours
URL:https://claregolf.ca/event/kitchen-dining-hall-closed-at-2-pm-midnight-private-function/
END:VEVENT
BEGIN:VEVENT
DTSTART;TZID=America/Halifax:20190711T180000
DTEND;TZID=America/Halifax:20190711T200000
DTSTAMP:20260423T040948
CREATED:20190620T191445Z
LAST-MODIFIED:20190620T191445Z
UID:587-1562868000-1562875200@claregolf.ca
SUMMARY:Men's Night
DESCRIPTION:
URL:https://claregolf.ca/event/mens-night-4/
END:VEVENT
BEGIN:VEVENT
DTSTART;TZID=America/Halifax:20190710T170000
DTEND;TZID=America/Halifax:20190710T200000
DTSTAMP:20260423T040948
CREATED:20190604T125044Z
LAST-MODIFIED:20190604T125044Z
UID:498-1562778000-1562788800@claregolf.ca
SUMMARY:Wednesday Night Social
DESCRIPTION:
URL:https://claregolf.ca/event/wednesday-night-social-6/
END:VEVENT
BEGIN:VEVENT
DTSTART;TZID=America/Halifax:20190709T180000
DTEND;TZID=America/Halifax:20190709T200000
DTSTAMP:20260423T040948
CREATED:20190620T153027Z
LAST-MODIFIED:20190620T153027Z
UID:558-1562695200-1562702400@claregolf.ca
SUMMARY:Ladies Tuesday Night Social
DESCRIPTION:9-hole Scramble \nRegistration 5:30 PM \nTee-off at 6 PM \nMembers $2   Non-members $7
URL:https://claregolf.ca/event/ladies-tuesday-night-social-4/
END:VEVENT
BEGIN:VEVENT
DTSTART;TZID=America/Halifax:20190708T190000
DTEND;TZID=America/Halifax:20190708T210000
DTSTAMP:20260423T040948
CREATED:20190604T153156Z
LAST-MODIFIED:20190703T154528Z
UID:517-1562612400-1562619600@claregolf.ca
SUMMARY:Violon et Tradition Fiddle Night has been cancelled for tonight only.
DESCRIPTION:Message from CIFA Radio\nDue to unforeseen circumstances\, Violons et Traditions for July 8th has to be cancelled. Sorry for any problems this may have caused. We will still be having these evenings July 22\, August 5 and 19. Hope to see you all there! \nEn raison de circonstances imprévues\, Violons et Traditions doit être annulé pour le 8 juillet. Nous sommes désolés pour les problèmes que cela a pu causer. Nous aurons toujours ces soirées les 22 juillet\, 5 et 19 août. Au plaisir de vous y voir tous !
URL:https://claregolf.ca/event/violon-et-tradition-fiddle-nights/
END:VEVENT
BEGIN:VEVENT
DTSTART;TZID=America/Halifax:20190704T180000
DTEND;TZID=America/Halifax:20190704T200000
DTSTAMP:20260423T040948
CREATED:20190620T191409Z
LAST-MODIFIED:20190620T191409Z
UID:585-1562263200-1562270400@claregolf.ca
SUMMARY:Men's Night
DESCRIPTION:
URL:https://claregolf.ca/event/mens-night-3/
END:VEVENT
BEGIN:VEVENT
DTSTART;TZID=America/Halifax:20190703T170000
DTEND;TZID=America/Halifax:20190703T200000
DTSTAMP:20260423T040948
CREATED:20190604T125023Z
LAST-MODIFIED:20190604T125023Z
UID:496-1562173200-1562184000@claregolf.ca
SUMMARY:Wednesday Night Social
DESCRIPTION:
URL:https://claregolf.ca/event/wednesday-night-social-5/
END:VEVENT
BEGIN:VEVENT
DTSTART;TZID=America/Halifax:20190703T130000
DTEND;TZID=America/Halifax:20190703T150000
DTSTAMP:20260423T040948
CREATED:20190625T123532Z
LAST-MODIFIED:20190625T123708Z
UID:645-1562158800-1562166000@claregolf.ca
SUMMARY:Junior Clinics - Driving Range & Putting Green
DESCRIPTION:Driving Range & Practice Putting Green will be closed to Juniors Only from 1 PM to 3 PM. \nBeginner Practice Session will be from 1 PM – 2 PM \nIntermediate and Advanced Practice Session will be from 2 PM to 3 PM \nJunior Players will be encourage to play a few holes\, tee times permitting.
URL:https://claregolf.ca/event/junior-clinics-for-beginner-intermediate-and-advanced/
END:VEVENT
BEGIN:VEVENT
DTSTART;TZID=America/Halifax:20190702T180000
DTEND;TZID=America/Halifax:20190702T200000
DTSTAMP:20260423T040948
CREATED:20190620T152917Z
LAST-MODIFIED:20190702T143906Z
UID:556-1562090400-1562097600@claregolf.ca
SUMMARY:Ladies Tuesday Night Social CANCELLED
DESCRIPTION:9-hole Scramble \nRegistration 5:30 PM \nTee-off at 6 PM \nMembers $2   Non-members $7
URL:https://claregolf.ca/event/ladies-tuesday-night-social-3/
END:VEVENT
BEGIN:VEVENT
DTSTART;TZID=America/Halifax:20190629T080000
DTEND;TZID=America/Halifax:20190629T160000
DTSTAMP:20260423T040948
CREATED:20190219T173202Z
LAST-MODIFIED:20190605T154901Z
UID:73-1561795200-1561824000@claregolf.ca
SUMMARY:2019 Acadian 2 Ball Scramble
DESCRIPTION:  \nFor members and non members \nA one day two player format that is always a hit among its participants\, details on this event are coming shortly.
URL:https://claregolf.ca/event/2019-acadian-2-ball-scramble/
END:VEVENT
BEGIN:VEVENT
DTSTART;TZID=America/Halifax:20190627T180000
DTEND;TZID=America/Halifax:20190627T200000
DTSTAMP:20260423T040948
CREATED:20190620T191338Z
LAST-MODIFIED:20190620T191338Z
UID:583-1561658400-1561665600@claregolf.ca
SUMMARY:Men's Night
DESCRIPTION:
URL:https://claregolf.ca/event/mens-night-2/
END:VEVENT
BEGIN:VEVENT
DTSTART;TZID=America/Halifax:20190627T170000
DTEND;TZID=America/Halifax:20190627T213000
DTSTAMP:20260423T040948
CREATED:20190624T133834Z
LAST-MODIFIED:20190624T133834Z
UID:643-1561654800-1561671000@claregolf.ca
SUMMARY:Chase the Ace Draw
DESCRIPTION:Join us Thursday night for some good food\, great music and the Chase the Ace Draw at 9 PM. This weeks estimated Jackpot is $60\,700.00. \nGet you chase the ace tickets at these following locations as well as here at the course:
URL:https://claregolf.ca/event/chase-the-ace-draw/
END:VEVENT
BEGIN:VEVENT
DTSTART;TZID=America/Halifax:20190626T170000
DTEND;TZID=America/Halifax:20190626T200000
DTSTAMP:20260423T040948
CREATED:20190604T124957Z
LAST-MODIFIED:20190604T124957Z
UID:494-1561568400-1561579200@claregolf.ca
SUMMARY:Wednesday Night Social
DESCRIPTION:
URL:https://claregolf.ca/event/wednesday-night-social-4/
END:VEVENT
BEGIN:VEVENT
DTSTART;TZID=America/Halifax:20190625T180000
DTEND;TZID=America/Halifax:20190625T200000
DTSTAMP:20260423T040948
CREATED:20190618T165559Z
LAST-MODIFIED:20190620T152720Z
UID:547-1561485600-1561492800@claregolf.ca
SUMMARY:Ladies Tuesday Night Social
DESCRIPTION:Every Tuesday \n9-hole Scramble \nRegistration 5:30 PM \nTee-off at 6 PM \nMembers $2   Non-members $7
URL:https://claregolf.ca/event/ladies-tuesday-night-social-2/
END:VEVENT
BEGIN:VEVENT
DTSTART;TZID=America/Halifax:20190622T074500
DTEND;TZID=America/Halifax:20190622T074500
DTSTAMP:20260423T040948
CREATED:20190618T163540Z
LAST-MODIFIED:20190618T163746Z
UID:538-1561189500-1561189500@claregolf.ca
SUMMARY:Member and Green Fees Shot Gun Start 7:45 AM
DESCRIPTION:Please not that we have the Transport de Clare Fundraiser Tournament taking place at 12:30 PM. The Course will be closed at that time. Members and Green Fees are encouraged to play at 7:45 AM and it will be a Shot Gun Start and play must be concluded and course vacated by 12:30 PM.
URL:https://claregolf.ca/event/member-and-green-fees-shot-gun-start/
END:VEVENT
BEGIN:VEVENT
DTSTART;TZID=America/Halifax:20190620T180000
DTEND;TZID=America/Halifax:20190620T200000
DTSTAMP:20260423T040948
CREATED:20190620T191249Z
LAST-MODIFIED:20190620T191249Z
UID:581-1561053600-1561060800@claregolf.ca
SUMMARY:Men's Night
DESCRIPTION:
URL:https://claregolf.ca/event/mens-night/
END:VEVENT
BEGIN:VEVENT
DTSTART;TZID=America/Halifax:20190619T170000
DTEND;TZID=America/Halifax:20190619T200000
DTSTAMP:20260423T040948
CREATED:20190604T124927Z
LAST-MODIFIED:20190604T124934Z
UID:492-1560963600-1560974400@claregolf.ca
SUMMARY:Wednesday Night Social
DESCRIPTION:
URL:https://claregolf.ca/event/wednesday-night-social-3/
END:VEVENT
BEGIN:VEVENT
DTSTART;TZID=America/Halifax:20190618T180000
DTEND;TZID=America/Halifax:20190618T200000
DTSTAMP:20260423T040948
CREATED:20190618T165146Z
LAST-MODIFIED:20190618T165146Z
UID:545-1560880800-1560888000@claregolf.ca
SUMMARY:Ladies Tuesday Night Social
DESCRIPTION:Starting Tuesday\, June 18th running every Tuesday \n9-hole Scramble \nTee-off at 6 pm \nMembers $2   Non-members $7
URL:https://claregolf.ca/event/ladies-tuesday-night-social/
END:VEVENT
BEGIN:VEVENT
DTSTART;TZID=America/Halifax:20190615T130000
DTEND;TZID=America/Halifax:20190615T180000
DTSTAMP:20260423T040948
CREATED:20190225T143823Z
LAST-MODIFIED:20190608T183407Z
UID:217-1560603600-1560621600@claregolf.ca
SUMMARY:2019 SPCA
DESCRIPTION:Shot Gun start at 1 Pm and Supper to follow at the Clubhouse. The Course will be closed from 12:30 pm to approximately 6 PM. Course will open as soon as tournament is concluded.
URL:https://claregolf.ca/event/2019-spca/
END:VEVENT
BEGIN:VEVENT
DTSTART;TZID=America/Halifax:20190615T074500
DTEND;TZID=America/Halifax:20190615T121500
DTSTAMP:20260423T040948
CREATED:20190608T182926Z
LAST-MODIFIED:20190608T182926Z
UID:533-1560584700-1560600900@claregolf.ca
SUMMARY:Members and Green Fees Shot Gun Start 7:45 AM
DESCRIPTION:Please not that we have the SPCA Fundraiser Tournament taking place at 1 PM. The Course will be closed at that time. Members and Green Fees are encouraged to play at 7:45 AM and it will be a Shot Gun Start and play must be concluded by 12:30 PM.
URL:https://claregolf.ca/event/members-and-green-fees-shot-gun-start-745-am/
END:VEVENT
BEGIN:VEVENT
DTSTART;TZID=America/Halifax:20190612T170000
DTEND;TZID=America/Halifax:20190612T200000
DTSTAMP:20260423T040948
CREATED:20190604T124905Z
LAST-MODIFIED:20190604T124905Z
UID:490-1560358800-1560369600@claregolf.ca
SUMMARY:Wednesday Night Social
DESCRIPTION:
URL:https://claregolf.ca/event/wednesday-night-social-2/
END:VEVENT
BEGIN:VEVENT
DTSTART;TZID=America/Halifax:20190607T070000
DTEND;TZID=America/Halifax:20190607T130000
DTSTAMP:20260423T040948
CREATED:20190605T133302Z
LAST-MODIFIED:20190605T133302Z
UID:526-1559890800-1559912400@claregolf.ca
SUMMARY:Corporate Event - Clare Mutual Group
DESCRIPTION:Corporate Event. Course will reopen at 1 pm.
URL:https://claregolf.ca/event/corporate-event-clare-mutual-group/
END:VEVENT
BEGIN:VEVENT
DTSTART;TZID=America/Halifax:20190606T180000
DTEND;TZID=America/Halifax:20190606T203000
DTSTAMP:20260423T040948
CREATED:20190604T124718Z
LAST-MODIFIED:20190604T124718Z
UID:484-1559844000-1559853000@claregolf.ca
SUMMARY:Chase The Ace Draw 32
DESCRIPTION:Tickets available during the week at Clare Golf & Country Club’s Pro Shop\, Comeauville Freshmart\, Seashore Restaurant – Blue Rock Lounge\, Stuart’s KwikWay\, Comeau Seafoods Stockroom\, The Source\, Church Point Social Club\, Vic’s Store\, Weymouth Mercantile\, DJ’s Corner Store\, Meteghan Home Hardware\, Tri County Tractor in Yarmouth\, La Taverne Acadienne and Balser’s PharmaChoice in Digby. \nTickets sold all week long and on Thursday evenings until 8:30pm at the Clare Golf & Country Club Clubhouse prior to the 9pm Draw.
URL:https://claregolf.ca/event/chase-the-ace-draw-32/
END:VEVENT
BEGIN:VEVENT
DTSTART;TZID=America/Halifax:20190605T170000
DTEND;TZID=America/Halifax:20190605T200000
DTSTAMP:20260423T040948
CREATED:20190604T124828Z
LAST-MODIFIED:20190604T124828Z
UID:487-1559754000-1559764800@claregolf.ca
SUMMARY:Wednesday Night Social
DESCRIPTION:
URL:https://claregolf.ca/event/wednesday-night-social/
END:VEVENT
BEGIN:VEVENT
DTSTART;TZID=America/Halifax:20190601T080000
DTEND;TZID=America/Halifax:20190602T150000
DTSTAMP:20260423T040948
CREATED:20190219T172906Z
LAST-MODIFIED:20190219T172906Z
UID:67-1559376000-1559487600@claregolf.ca
SUMMARY:2019 Clare Men's 4-Ball
DESCRIPTION:The Clare Men’s 4 Ball is a two day Members event held annually at our Club\, it brings together the game we love with the fun of bringing a friend and team mate to challenge both the course and field in two different formats. \nOn the Saturday of this years event players will also have the added bonus of competing as individuals\, in an effort to keep the Opening tournament trophy presentation\, The 4 Ball organizers will combine the two events\, following the Saturday rounds of the 4 Ball they will crown an individual champion as the opening tournament Champion. \nThe event organizers will have soon completed the agenda and we will be posting full event details shortly.
URL:https://claregolf.ca/event/2019-clare-mens-4-ball/
END:VEVENT
BEGIN:VEVENT
DTSTART;TZID=America/Halifax:20190518T080000
DTEND;TZID=America/Halifax:20190519T170000
DTSTAMP:20260423T040948
CREATED:20190219T172634Z
LAST-MODIFIED:20190518T140027Z
UID:64-1558166400-1558285200@claregolf.ca
SUMMARY:2019 Lobster Classic Mixed Couples Tournament
DESCRIPTION:Mixed Couples Invitational\nClare Golf & Country Club\nMay 18 & 19\n  \n~The restaurant and proshop are open all day.  You can still come and get your meal.~\nCLARE LOBSTER CLASSIC 2019\nSUNDAY MAY 19 – DRAW \nTEE # 1 AM\n8:30 AM Philippe Thibault Jeannine Maillet CL\n8:30 AM Craig Hollett Kandace Buchanan GRA \n8:40 AM Danny Creaser Vandalea OR\n8:40 AM Geno Pace Janice OAK \n8:50 AM Wayne Myers Bertha L. GRA\n8:50 AM Patricia Caldwell Wally (Sisco) YAR \n9:00 AM Nelson Doucet Linda Comeau CL\n9:00 AM Rick Newman Jennifer Hyett Country M \n9:10 AM Doug Carpenter Wendy Richardson GRW\n9:10 AM Amos d’Entremont Clara d’Entremont WP \n9:20 AM Nicole Tufts Ray Muise NSPP\n9:20 AM John Hyndman Debra Sullivan ASH \n9:30 AM Ken Davidson Rose OAK\n9:30 AM Anthony LeBlanc Theresa CL \n9:40 AM Gordon Weldin Joanne OAK\n9:40 AM Gerard Lindsay Karen Lindsay YAR \n9:50 AM Adrien Watkins Meredith CL\n9:50 AM Peter Randall Janet BRI \n10:00 AM Darrell Youden Coleen KW\n10:00 AM Roger Surette Mary BRI \n10:10 AM Tammy Atwood Sam El-Jakl RH\n10:10 AM Rick Thurber Paulette Dugas CL / EC \n10:20 AM Brian Walker Debbie PAR\n10:20 AM Karla Wilms Dan RH \n10:30 AM Frank D’Entremont Janet WP\n10:30 AM Roger LeBlanc Margaret d’Entremont CL / WP \n10:40 AM Betty Saltzman Scott Cooper GRW\n10:40 AM Debi Karrel Bob (Delvallet) ASH \n10:50 AM John Stoddart Joanne Newell CL\n10:50 AM Norman Gosse Jennifer Gosse ASH \n11:00 AM Tammy Rent Stephen (Pembleton) NSPP\n11:00 AM Daniel Comeau Barb Comeau GRW/NSPP \nTEE # 10 AM\n8:30 AM Roger Thibault Deborah WP\n8:30 AM Mike McGee Marie Comeau CL \n8:40 AM Svein Ravlo Karen YAR\n8:40 AM Danny McPhee Lois ASPOT \n8:50 AM Bill Simpson Patsy NSPP\n8:50 AM Aimee Theriault Arthur CL \n9:00 AM Robert Sullivan Sarah CL\n9:00 AM Mike Logan Tina GRW \n9:10 AM Barry MacDonald Marina BRI / NSPP\n9:10 AM Herb Thibodeau Marie YAR \n9:20 AM Ron Walker Nanette PAR\n9:20 AM Patricia Saulnier Paul Emile LeBlanc CL \n9:30 AM Arthur Little Kathy PAR\n9:30 AM Donald King Louise WP \n9:40 AM Steve O’Donnell Annette Hennessy Eden\n9:40 AM Kevin Webber Kathy NSPP \n9:50 AM Terry Small Linda ANNA\n9:50 AM Don Crowe Barb YAR \n10:00 AM Vern LeBlanc Bernice Twaddle CL\n10:00 AM Fred Graham Pam YAR \n10:10 AM Wayne Woodman Jill Davies EC\n10:10 AM Tom Macdonald Dina GRW \n10:20 AM Roland Comeau Ghislaine LeBlanc CL\n10:20 AM Philip Mooney Jessica Whitehouse YAR \n10:30 AM Sally Pickings Frank Slauenwhite NSPP\n10:30 AM Herb MacIntosh Colleen Swail NSPP/ EC \n10:40 AM David Betts Rebecca WP\n10:40 AM Ian Marshall Marie YAR \n10:50 AM Michael MacLean Lynn Doucette BRI/YAR\n10:50 AM Marlies van der Horst Greg (Boss) OAK
URL:https://claregolf.ca/event/2019-lobster-classic-mixed-couples-tournament/
END:VEVENT
END:VCALENDAR