BEGIN:VCALENDAR
VERSION:2.0
PRODID:-//Clare Golf &amp; Country Club - ECPv6.3.4//NONSGML v1.0//EN
CALSCALE:GREGORIAN
METHOD:PUBLISH
X-ORIGINAL-URL:https://claregolf.ca
X-WR-CALDESC:Events for Clare Golf &amp; Country Club
REFRESH-INTERVAL;VALUE=DURATION:PT1H
X-Robots-Tag:noindex
X-PUBLISHED-TTL:PT1H
BEGIN:VTIMEZONE
TZID:America/Halifax
BEGIN:DAYLIGHT
TZOFFSETFROM:-0400
TZOFFSETTO:-0300
TZNAME:ADT
DTSTART:20240310T060000
END:DAYLIGHT
BEGIN:STANDARD
TZOFFSETFROM:-0300
TZOFFSETTO:-0400
TZNAME:AST
DTSTART:20241103T050000
END:STANDARD
END:VTIMEZONE
BEGIN:VEVENT
DTSTART;TZID=America/Halifax:20240624T080000
DTEND;TZID=America/Halifax:20241006T170000
DTSTAMP:20260421T233742
CREATED:20240606T150816Z
LAST-MODIFIED:20240606T151144Z
UID:1938-1719216000-1728234000@claregolf.ca
SUMMARY:Men's Match Play
DESCRIPTION:matchplay 2024
URL:https://claregolf.ca/event/mens-match-play/
END:VEVENT
BEGIN:VEVENT
DTSTART;TZID=America/Halifax:20241005T130000
DTEND;TZID=America/Halifax:20241005T190000
DTSTAMP:20260421T233742
CREATED:20240227T165254Z
LAST-MODIFIED:20241002T173441Z
UID:1812-1728133200-1728154800@claregolf.ca
SUMMARY:Club Social- Closing Scramble/ Volunteer & Member Thank you
DESCRIPTION:Registration starts at 12 noon \n18 hole scramble- Shotgun start at 1pm. Light meal and entertainment from 5pm to 7pm. \nParticipants must have pre-registered with Pro Shop
URL:https://claregolf.ca/event/club-social-closing-scramble-volunteer-member-thank-you/
END:VEVENT
BEGIN:VEVENT
DTSTART;TZID=America/Halifax:20241019T100000
DTEND;TZID=America/Halifax:20241019T150000
DTSTAMP:20260421T233742
CREATED:20240227T165336Z
LAST-MODIFIED:20241002T173645Z
UID:1814-1729332000-1729350000@claregolf.ca
SUMMARY:The Impossible
DESCRIPTION:Pre-Registration required. \nCheck-in starting at 9:00am. Shotgun start at 10:00am \nA reduced menu will be made available for participants.
URL:https://claregolf.ca/event/the-impossible-2/
END:VEVENT
END:VCALENDAR