BEGIN:VCALENDAR
VERSION:2.0
PRODID:-//Clare Golf &amp; Country Club - ECPv6.3.4//NONSGML v1.0//EN
CALSCALE:GREGORIAN
METHOD:PUBLISH
X-WR-CALNAME:Clare Golf &amp; Country Club
X-ORIGINAL-URL:https://claregolf.ca
X-WR-CALDESC:Events for Clare Golf &amp; Country Club
REFRESH-INTERVAL;VALUE=DURATION:PT1H
X-Robots-Tag:noindex
X-PUBLISHED-TTL:PT1H
BEGIN:VTIMEZONE
TZID:America/Halifax
BEGIN:DAYLIGHT
TZOFFSETFROM:-0400
TZOFFSETTO:-0300
TZNAME:ADT
DTSTART:20230312T060000
END:DAYLIGHT
BEGIN:STANDARD
TZOFFSETFROM:-0300
TZOFFSETTO:-0400
TZNAME:AST
DTSTART:20231105T050000
END:STANDARD
END:VTIMEZONE
BEGIN:VEVENT
DTSTART;VALUE=DATE:20231021
DTEND;VALUE=DATE:20231022
DTSTAMP:20260422T152835
CREATED:20230127T203919Z
LAST-MODIFIED:20230127T203919Z
UID:1677-1697846400-1697932799@claregolf.ca
SUMMARY:The Impossible- Individual Stroke Play
DESCRIPTION:
URL:https://claregolf.ca/event/the-impossible-individual-stroke-play/
END:VEVENT
END:VCALENDAR