BEGIN:VCALENDAR
VERSION:2.0
PRODID:-//Clare Golf &amp; Country Club - ECPv6.3.4//NONSGML v1.0//EN
CALSCALE:GREGORIAN
METHOD:PUBLISH
X-ORIGINAL-URL:https://claregolf.ca
X-WR-CALDESC:Events for Clare Golf &amp; Country Club
REFRESH-INTERVAL;VALUE=DURATION:PT1H
X-Robots-Tag:noindex
X-PUBLISHED-TTL:PT1H
BEGIN:VTIMEZONE
TZID:America/Halifax
BEGIN:DAYLIGHT
TZOFFSETFROM:-0400
TZOFFSETTO:-0300
TZNAME:ADT
DTSTART:20230312T060000
END:DAYLIGHT
BEGIN:STANDARD
TZOFFSETFROM:-0300
TZOFFSETTO:-0400
TZNAME:AST
DTSTART:20231105T050000
END:STANDARD
END:VTIMEZONE
BEGIN:VEVENT
DTSTART;TZID=America/Halifax:20230603T080000
DTEND;TZID=America/Halifax:20230604T170000
DTSTAMP:20260422T185712
CREATED:20230127T204014Z
LAST-MODIFIED:20230127T204014Z
UID:1679-1685779200-1685898000@claregolf.ca
SUMMARY:Men’s 4-Ball – 2 formats (scramble and best ball) - Club Members Only
DESCRIPTION:
URL:https://claregolf.ca/event/mens-4-ball-2-formats-scramble-and-best-ball-club-members-only/
END:VEVENT
END:VCALENDAR