BEGIN:VCALENDAR
VERSION:2.0
PRODID:-//Clare Golf &amp; Country Club - ECPv6.3.4//NONSGML v1.0//EN
CALSCALE:GREGORIAN
METHOD:PUBLISH
X-WR-CALNAME:Clare Golf &amp; Country Club
X-ORIGINAL-URL:https://claregolf.ca
X-WR-CALDESC:Events for Clare Golf &amp; Country Club
REFRESH-INTERVAL;VALUE=DURATION:PT1H
X-Robots-Tag:noindex
X-PUBLISHED-TTL:PT1H
BEGIN:VTIMEZONE
TZID:America/Halifax
BEGIN:DAYLIGHT
TZOFFSETFROM:-0400
TZOFFSETTO:-0300
TZNAME:ADT
DTSTART:20220313T060000
END:DAYLIGHT
BEGIN:STANDARD
TZOFFSETFROM:-0300
TZOFFSETTO:-0400
TZNAME:AST
DTSTART:20221106T050000
END:STANDARD
END:VTIMEZONE
BEGIN:VEVENT
DTSTART;TZID=America/Halifax:20220820T080000
DTEND;TZID=America/Halifax:20220821T170000
DTSTAMP:20260423T113926
CREATED:20220516T193605Z
LAST-MODIFIED:20220516T194050Z
UID:1567-1660982400-1661101200@claregolf.ca
SUMMARY:Club Championship
DESCRIPTION:Please note: Tee times are often still available on tournament and event dates. Please phone Pro Shop to reserve.
URL:https://claregolf.ca/event/2022-club-championship/
END:VEVENT
END:VCALENDAR