BEGIN:VCALENDAR
VERSION:2.0
PRODID:-//Clare Golf &amp; Country Club - ECPv6.3.4//NONSGML v1.0//EN
CALSCALE:GREGORIAN
METHOD:PUBLISH
X-ORIGINAL-URL:https://claregolf.ca
X-WR-CALDESC:Events for Clare Golf &amp; Country Club
REFRESH-INTERVAL;VALUE=DURATION:PT1H
X-Robots-Tag:noindex
X-PUBLISHED-TTL:PT1H
BEGIN:VTIMEZONE
TZID:America/Halifax
BEGIN:DAYLIGHT
TZOFFSETFROM:-0400
TZOFFSETTO:-0300
TZNAME:ADT
DTSTART:20200308T060000
END:DAYLIGHT
BEGIN:STANDARD
TZOFFSETFROM:-0300
TZOFFSETTO:-0400
TZNAME:AST
DTSTART:20201101T050000
END:STANDARD
END:VTIMEZONE
BEGIN:VEVENT
DTSTART;TZID=America/Halifax:20201003T080000
DTEND;TZID=America/Halifax:20201004T170000
DTSTAMP:20260425T164351
CREATED:20200713T193236Z
LAST-MODIFIED:20200713T193236Z
UID:1137-1601712000-1601830800@claregolf.ca
SUMMARY:Jack Frost Men's Invitational
DESCRIPTION:Tee times \nDetails to be announced
URL:https://claregolf.ca/event/jack-frost-mens-invitational/
END:VEVENT
END:VCALENDAR