BEGIN:VCALENDAR
VERSION:2.0
PRODID:-//Clare Golf &amp; Country Club - ECPv6.3.4//NONSGML v1.0//EN
CALSCALE:GREGORIAN
METHOD:PUBLISH
X-WR-CALNAME:Clare Golf &amp; Country Club
X-ORIGINAL-URL:https://claregolf.ca
X-WR-CALDESC:Events for Clare Golf &amp; Country Club
REFRESH-INTERVAL;VALUE=DURATION:PT1H
X-Robots-Tag:noindex
X-PUBLISHED-TTL:PT1H
BEGIN:VTIMEZONE
TZID:America/Halifax
BEGIN:DAYLIGHT
TZOFFSETFROM:-0400
TZOFFSETTO:-0300
TZNAME:ADT
DTSTART:20200308T060000
END:DAYLIGHT
BEGIN:STANDARD
TZOFFSETFROM:-0300
TZOFFSETTO:-0400
TZNAME:AST
DTSTART:20201101T050000
END:STANDARD
END:VTIMEZONE
BEGIN:VEVENT
DTSTART;TZID=America/Halifax:20200606T080000
DTEND;TZID=America/Halifax:20200607T150000
DTSTAMP:20260425T230412
CREATED:20200306T210548Z
LAST-MODIFIED:20200525T143516Z
UID:961-1591430400-1591542000@claregolf.ca
SUMMARY:2020 Clare 4-Ball - Cancelled
DESCRIPTION:Tee times both days. \nThe Clare 4 Ball is a two day Members event held annually at our Club\, it brings together the game we love with the fun of bringing a friend and team mate to challenge both the course and field. \nThe event organizers will have soon completed the agenda and we will be posting full event details  and sign up. \n 
URL:https://claregolf.ca/event/spring-shootout/
END:VEVENT
END:VCALENDAR