BEGIN:VCALENDAR
VERSION:2.0
PRODID:-//Clare Golf &amp; Country Club - ECPv6.3.4//NONSGML v1.0//EN
CALSCALE:GREGORIAN
METHOD:PUBLISH
X-WR-CALNAME:Clare Golf &amp; Country Club
X-ORIGINAL-URL:https://claregolf.ca
X-WR-CALDESC:Events for Clare Golf &amp; Country Club
REFRESH-INTERVAL;VALUE=DURATION:PT1H
X-Robots-Tag:noindex
X-PUBLISHED-TTL:PT1H
BEGIN:VTIMEZONE
TZID:America/Halifax
BEGIN:DAYLIGHT
TZOFFSETFROM:-0400
TZOFFSETTO:-0300
TZNAME:ADT
DTSTART:20200308T060000
END:DAYLIGHT
BEGIN:STANDARD
TZOFFSETFROM:-0300
TZOFFSETTO:-0400
TZNAME:AST
DTSTART:20201101T050000
END:STANDARD
END:VTIMEZONE
BEGIN:VEVENT
DTSTART;TZID=America/Halifax:20200516T080000
DTEND;TZID=America/Halifax:20200517T170000
DTSTAMP:20260426T002711
CREATED:20190904T145032Z
LAST-MODIFIED:20200325T183659Z
UID:813-1589616000-1589734800@claregolf.ca
SUMMARY:2020 Lobster Classic Mixed Couples Tournament Cancelled
DESCRIPTION:CLARE LOBSTER CLASSIC Cancelled \nMixed Couples Invitational 2020 \n  \nDear Golfers: \n  \nOn March 23rd. The Chief Medical Officer\, due to the COVID-19 virus\, under section 23 of the Nova Scotia Health Protection Act\, included the closure of golf courses to prevent the spread of the virus for as long as the COVID-19 outbreak\, presents a risk to the public. \n  \nAccording to news reports\, Dr. Strang\, Chief Medical Officer\, has indicated that he expects the COVID-19 outbreak will last\, at least\, 7 to 10 weeks. \n  \nWith this information\, given the events in Nova Scotia\, Canada and around the globe in regard to this virus\, the collective view of the Committee\, the Board and the Management of the Clare Golf and Country Club\, have made the decision to cancel for the year 2020 the Clare Lobster Classic Mixed Invitational Tournament that was schedule to take place on May 16th and 17th 2020. \n  \nFor many of you\, this has been the opening of your golfing year\, and we have appreciated your support for this tournament over the past 32 years.  We will greatly miss having the opportunity to host the tournament this year and hope to see you back next year. We certainly hope to see you all sometime in the 2020 Golf Season and at our 2021 event. \n  \nStay informed\, for updates and news\, through the Clare Golf FaceBook Pages as well on the Clare Golf & Country Club Website. \n  \n  \nThank you \n  \nBill Twaddle\, Chairperson \nLobster Classic Committee \nwktwaddle@eastlink.ca \n 
URL:https://claregolf.ca/event/2020-lobster-classic-mixed-couples-tournament/
END:VEVENT
END:VCALENDAR